BEGIN:VCALENDAR
VERSION:2.0
BEGIN:VEVENT
CLASS:PUBLIC
CATEGORIES:MEETING
DTSTART;TZID=Europe/Berlin:20200618T200000
DTEND;TZID=Europe/Berlin:20200618T200000
SUMMARY:Rod Fritz at Fini Resort Badenweiler
DESCRIPTION:Age Limit: All Ages\n\nDetails: Rod Fritz live at Rock under the Mamoth Baum Fini Resort Badenweiler
LOCATION:Fini Resort Badenweiler - Blauenstraße 15, Badenweiler, 79410, DE
END:VEVENT

END:VCALENDAR
