BEGIN:VCALENDAR
VERSION:2.0
BEGIN:VEVENT
CLASS:PUBLIC
CATEGORIES:MEETING
DTSTART;TZID=America/New_York:20200821T180000
DTEND;TZID=America/New_York:20200821T180000
SUMMARY:Bob Niederriter at Dan Smith Park
DESCRIPTION:Age Limit: All Ages\n\nDetails: Trio performance , details TBA
LOCATION:Dan Smith Park - E Erie Street, Kent, OH, 44240, US
END:VEVENT

END:VCALENDAR
