BEGIN:VCALENDAR
VERSION:2.0
BEGIN:VEVENT
CLASS:PUBLIC
CATEGORIES:MEETING
DTSTART;TZID=America/Chicago:20200215T200000
DTEND;TZID=America/Chicago:20200215T200000
SUMMARY:Soul Punch at The Crafty Chameleon
DESCRIPTION:Age Limit: All Ages\n\nDetails: Fun Cover Show 8-11PM
LOCATION:The Crafty Chameleon - 1384 Clarkson Clayton Center, Ellisville, MO, 63011, US
END:VEVENT

END:VCALENDAR
