BEGIN:VCALENDAR
VERSION:2.0
BEGIN:VEVENT
CLASS:PUBLIC
CATEGORIES:MEETING
DTSTART;TZID=Europe/London:20200411T210000
DTEND;TZID=Europe/London:20200411T210000
SUMMARY:The Skunnered at Tighnabruaich Hotel
DESCRIPTION:Age Limit: 18+
LOCATION:Tighnabruaich Hotel - Main Street, Tighnabruaich, SCT, PA21, UK
END:VEVENT

END:VCALENDAR
