BEGIN:VCALENDAR
VERSION:2.0
BEGIN:VEVENT
CLASS:PUBLIC
CATEGORIES:MEETING
DTSTART;TZID=Europe/London:20200222T210000
DTEND;TZID=Europe/London:20200222T210000
SUMMARY:The Skunnered at Duntiglennan Bar
DESCRIPTION:Age Limit: 18+
LOCATION:Duntiglennan Bar - 68 Dumbarton Road, Clydebank, SCT, G81, UK
END:VEVENT

END:VCALENDAR
