BEGIN:VCALENDAR
VERSION:2.0
BEGIN:VEVENT
CLASS:PUBLIC
CATEGORIES:MEETING
DTSTART;TZID=America/Los_Angeles:20191102T160000
DTEND;TZID=America/Los_Angeles:20191102T160000
SUMMARY:LeBono at Brew Rebellion
DESCRIPTION:Age Limit: All Ages\n\nDetails: Chamber Car Show at Brew Rebellion with Original Rock Artist DedBuny from 4 - 6pm!!
LOCATION:Brew Rebellion - 33 South San Gorgonio Avenue, Banning, CA, 92220, US
END:VEVENT

END:VCALENDAR
