BEGIN:VCALENDAR
VERSION:2.0
BEGIN:VEVENT
CLASS:PUBLIC
CATEGORIES:MEETING
DTSTART;TZID=America/Los_Angeles:20191019T180000
DTEND;TZID=America/Los_Angeles:20191019T180000
SUMMARY:LeBono at Brew Rebellion
DESCRIPTION:Age Limit: All Ages\n\nDetails: Raiders Octoberfest at Brew Rebellion with Original Rock Artist DedBuny from 6 - 8pm!!
LOCATION:Brew Rebellion - 33 South San Gorgonio Avenue, Banning, CA, 92220, US
END:VEVENT

END:VCALENDAR
