BEGIN:VCALENDAR
VERSION:2.0
BEGIN:VEVENT
CLASS:PUBLIC
CATEGORIES:MEETING
DTSTART;TZID=Europe/Athens:20190928T170000
DTEND;TZID=Europe/Athens:20190928T170000
SUMMARY:Alex Papadiamantis at KYTTARO LIVE
DESCRIPTION:Price: 25,30,35 euros\nAge Limit: All Ages\n\nDetails: Demons Gate Festival\n
LOCATION:KYTTARO LIVE - Ippeirou 48 & Aharnon, Athens, A1, GR
END:VEVENT

END:VCALENDAR
