BEGIN:VCALENDAR
VERSION:2.0
BEGIN:VEVENT
CLASS:PUBLIC
CATEGORIES:MEETING
DTSTART;TZID=America/Chicago:20191123T140000
DTEND;TZID=America/Chicago:20191123T140000
SUMMARY:Captain Midnight Band at Gryphon's Den
DESCRIPTION:Click here to buy tickets: https://www.eventbrite.com/e/wild-things-family-reunion-tickets-63023364580?fbclid=IwAR0up27Uk2RHMUKfuSFJhv03DyKIIens9WIUP-sewY_ZMEu0Joe8UWHs9Jc\nAge Limit: All Ages\n\nDetails:  A unique 3 day camping and music festival in the countryside just outside of New Orleans featuring New Orleans&#39; finest musical acts, spectacular nightly bonfires and interactive musical experiences, dancing, performance art, local food and much, much more! 
LOCATION:Gryphon's Den - 19306 bull run road, Springfield, LA, 70462, US
END:VEVENT

END:VCALENDAR
