BEGIN:VCALENDAR
VERSION:2.0
BEGIN:VEVENT
CLASS:PUBLIC
CATEGORIES:MEETING
DTSTART;TZID=Australia/Sydney:20190925T203000
DTEND;TZID=Australia/Sydney:20190925T203000
SUMMARY:Dave Panichi BIG Band at Lazybones Lounge
DESCRIPTION:Price: $15\nAge Limit: 18+ or w/ adult\n\nDetails: Doors/Restaurant 7pm.  $15 at the door. \n$10 pizzas all night long!\n\nDave Panichi Big Band\n\nTrumpets:                                        Bones:\nDane Laboyrie                                Ellie Shearer\nJames Doyle                                   Raphael Rosse\nJames Power                                  Mike Raper\nSimon Ferenci                                 Nick Barnard\n\nSaxes:                                             Rhythm Section:\nAndrew Crago                                 Mike Coggins Guitar\nZac Olsen                                        Steve Barry    Piano\nRich Maegraith                                Dave Quinn    Bass\nNish Manjunath                               Paul Derricott Drums\nJames Loughnan
LOCATION:Lazybones Lounge - 294 Marrickville Road, Marrickville, NSW, 2204, AU
END:VEVENT

END:VCALENDAR
