BEGIN:VCALENDAR
VERSION:2.0
BEGIN:VEVENT
CLASS:PUBLIC
CATEGORIES:MEETING
DTSTART;TZID=America/Los_Angeles:20190831T190000
DTEND;TZID=America/Los_Angeles:20190831T190000
SUMMARY:LeBono at Brew Rebellion
DESCRIPTION:Price: 0\nAge Limit: 21+\n\nDetails: Live show with DedBuny!!  No Cover, Original Music, Original Beer!!
LOCATION:Brew Rebellion - 33 South San Gorgonio Avenue, Banning, CA, 92220, US
END:VEVENT

END:VCALENDAR
