BEGIN:VCALENDAR
VERSION:2.0
BEGIN:VEVENT
CLASS:PUBLIC
CATEGORIES:MEETING
DTSTART;TZID=America/Detroit:20190824T120000
DTEND;TZID=America/Detroit:20190824T120000
SUMMARY:Billy Brandt & Sarana VerLin at The Whitney
DESCRIPTION:Age Limit: All Ages\n\nDetails: Songwriter Brunch in the Gardens
LOCATION:The Whitney - 4421 Woodward Ave, Detroit, MI, 48201, US
END:VEVENT

END:VCALENDAR
