BEGIN:VCALENDAR
VERSION:2.0
BEGIN:VEVENT
CLASS:PUBLIC
CATEGORIES:MEETING
DTSTART;TZID=America/Los_Angeles:20190927T200000
DTEND;TZID=America/Los_Angeles:20190927T200000
SUMMARY:LeBono at TRiP
DESCRIPTION:Age Limit: 21+\n\nDetails: Multi-Band Show with DedBuny starting off the night at 915pm!
LOCATION:TRiP - 2101 Lincoln Boulevard, Santa Monica, CA, 90405, US
END:VEVENT

END:VCALENDAR
