BEGIN:VCALENDAR
VERSION:2.0
BEGIN:VEVENT
CLASS:PUBLIC
CATEGORIES:MEETING
DTSTART;TZID=Europe/Athens:20190815T220000
DTEND;TZID=Europe/Athens:20190815T220000
SUMMARY:Alex Papadiamantis at Solybar
DESCRIPTION:Age Limit: All Ages\n\nDetails: Vocals Violin Synths
LOCATION:Solybar - Gazias, Chalkoutsi, 190 15, GR
END:VEVENT

END:VCALENDAR
