BEGIN:VCALENDAR
VERSION:2.0
BEGIN:VEVENT
CLASS:PUBLIC
CATEGORIES:MEETING
DTSTART;TZID=America/Los_Angeles:20190918T170000
DTEND;TZID=America/Los_Angeles:20190918T170000
SUMMARY:LeBono at Alebrijes Fluid and Fare
DESCRIPTION:Age Limit: All Ages\n\nDetails: I.E&#39;s Got Talent - Local Music Show Hosted by The Minne Green Show!!
LOCATION:Alebrijes Fluid and Fare - 2795 Cabot Drive, Corona, CA, 92883, US
END:VEVENT

END:VCALENDAR
