BEGIN:VCALENDAR
VERSION:2.0
BEGIN:VEVENT
CLASS:PUBLIC
CATEGORIES:MEETING
DTSTART;TZID=America/Los_Angeles:20190914T200000
DTEND;TZID=America/Los_Angeles:20190914T200000
SUMMARY:LeBono at The Ambassador Lounge
DESCRIPTION:Price: FREE\nAge Limit: 21+\n\nDetails: DedBuny performing new Album &quot;AND I&quot; with CDs available at show.  Free schwag and get night of ROCK Music!!!
LOCATION:The Ambassador Lounge - 2901 Nimitz Boulevard, San Diego, CA, 92106, US
END:VEVENT

END:VCALENDAR
