BEGIN:VCALENDAR
VERSION:2.0
BEGIN:VEVENT
CLASS:PUBLIC
CATEGORIES:MEETING
DTSTART;TZID=Europe/London:20191107T190000
DTEND;TZID=Europe/London:20191107T190000
SUMMARY:Billy Brandt & Sarana VerLin at Beaufort Hunt
DESCRIPTION:Age Limit: All Ages
LOCATION:Beaufort Hunt - 72 Broad Street, Chipping Sodbury, ENG, BS37, UK
END:VEVENT

END:VCALENDAR
