BEGIN:VCALENDAR
VERSION:2.0
BEGIN:VEVENT
CLASS:PUBLIC
CATEGORIES:MEETING
DTSTART;TZID=Europe/London:20191103T190000
DTEND;TZID=Europe/London:20191103T190000
SUMMARY:Billy Brandt & Sarana VerLin at The Cider Barn
DESCRIPTION:Age Limit: All Ages
LOCATION:The Cider Barn - Draycott Road, Cheddar, ENG, BS27 3RU, UK
END:VEVENT

END:VCALENDAR
