BEGIN:VCALENDAR
VERSION:2.0
BEGIN:VEVENT
CLASS:PUBLIC
CATEGORIES:MEETING
DTSTART;TZID=Europe/London:20191102T193000
DTEND;TZID=Europe/London:20191102T193000
SUMMARY:Billy Brandt & Sarana VerLin at Hawthorns Hotel: Bar, Restaurant and Accommodation
DESCRIPTION:Age Limit: All Ages
LOCATION:Hawthorns Hotel: Bar, Restaurant and Accommodation - 8 Northload Street, Glastonbury, ENG, BA6, UK
END:VEVENT

END:VCALENDAR
