BEGIN:VCALENDAR
VERSION:2.0
BEGIN:VEVENT
CLASS:PUBLIC
CATEGORIES:MEETING
DTSTART;TZID=Europe/London:20191031T193000
DTEND;TZID=Europe/London:20191031T193000
SUMMARY:Billy Brandt & Sarana VerLin at Minchinhampton Folk Club
DESCRIPTION:Age Limit: All Ages
LOCATION:Minchinhampton Folk Club - The Crown, Stroud, GLS, GL6 9BN, UK
END:VEVENT

END:VCALENDAR
