BEGIN:VCALENDAR
VERSION:2.0
BEGIN:VEVENT
CLASS:PUBLIC
CATEGORIES:MEETING
DTSTART;TZID=Europe/London:20191023T190000
DTEND;TZID=Europe/London:20191023T190000
SUMMARY:Billy Brandt & Sarana VerLin at The Carpenter's Arms
DESCRIPTION:Price: Free!\nAge Limit: All Ages\n\nDetails: Pub and Inn
LOCATION:The Carpenter's Arms - Miserden Birdlip, Miserden, GL6 7JA, UK
END:VEVENT

END:VCALENDAR
