BEGIN:VCALENDAR
VERSION:2.0
BEGIN:VEVENT
CLASS:PUBLIC
CATEGORIES:MEETING
DTSTART;TZID=America/Detroit:20190902T160000
DTEND;TZID=America/Detroit:20190902T160000
SUMMARY:Billy Brandt and the Sugaree's at Arts Beats & Eats
DESCRIPTION:Click here to buy tickets: http://artsbeatseats.com/beats2019\nAge Limit: All Ages\n\nDetails: Country/Americana Stage
LOCATION:Arts Beats & Eats - South Center Street, Royal Oak, MI, 48067, US
END:VEVENT

END:VCALENDAR
