BEGIN:VCALENDAR
VERSION:2.0
BEGIN:VEVENT
CLASS:PUBLIC
CATEGORIES:MEETING
DTSTART;TZID=America/New_York:20190824T180000
DTEND;TZID=America/New_York:20190824T180000
SUMMARY:Bob Niederriter at Eton Chagrin Boulevard
DESCRIPTION:Age Limit: All Ages\n\nDetails: Trio performance from 6:00 pm - 8:00 pm , details TBA ...
LOCATION:Eton Chagrin Boulevard - 28601 Chagrin Boulevard, Woodmere, OH, 44122, US
END:VEVENT

END:VCALENDAR
