BEGIN:VCALENDAR
VERSION:2.0
BEGIN:VEVENT
CLASS:PUBLIC
CATEGORIES:MEETING
DTSTART;TZID=America/Detroit:20190830T190000
DTEND;TZID=America/Detroit:20190830T190000
SUMMARY:Billy Brandt & Sarana VerLin at Northville Winery
DESCRIPTION:Age Limit: All Ages
LOCATION:Northville Winery - 630 Baseline Road, Northville, MI, 48167, US
END:VEVENT

END:VCALENDAR
