BEGIN:VCALENDAR
VERSION:2.0
BEGIN:VEVENT
CLASS:PUBLIC
CATEGORIES:MEETING
DTSTART;TZID=America/Detroit:20190825T150000
DTEND;TZID=America/Detroit:20190825T150000
SUMMARY:Billy Brandt & Sarana VerLin at Farm House Folk
DESCRIPTION:Price: $15\nClick here to buy tickets: https://www.eventbrite.com/e/farmhouse-folk-presents-billy-brandt-sarana-virlin-tickets-68085476493?aff=efbeventtix&amp;fbclid=IwAR0y66ZuHM-oQmGWrmThF4fhjVgKTIeNXbttrrwXSj0S8mwUlseXy9jZIzU\nAge Limit: All Ages
LOCATION:Farm House Folk - 9319 Beecher Road,, Flushing, MI, 48433, US
END:VEVENT

END:VCALENDAR
