BEGIN:VCALENDAR
VERSION:2.0
BEGIN:VEVENT
CLASS:PUBLIC
CATEGORIES:MEETING
DTSTART;TZID=America/New_York:20190808T200000
DTEND;TZID=America/New_York:20190808T200000
SUMMARY:Dr. Detoxxx at Miller's Fill Inn
DESCRIPTION:Age Limit: All Ages
LOCATION:Miller's Fill Inn - 52 Donnermeyer Dr, Bellevue, KY, 41073, US
END:VEVENT

END:VCALENDAR
