BEGIN:VCALENDAR
VERSION:2.0
BEGIN:VEVENT
CLASS:PUBLIC
CATEGORIES:MEETING
DTSTART;TZID=America/Chicago:20190830T210000
DTEND;TZID=America/Chicago:20190830T210000
SUMMARY:Michael Goss at Christie's Bar
DESCRIPTION:Age Limit: 21+
LOCATION:Christie's Bar - 112 South Hudson Street, Altus, OK, 73521, US
END:VEVENT

END:VCALENDAR
