BEGIN:VCALENDAR
VERSION:2.0
BEGIN:VEVENT
CLASS:PUBLIC
CATEGORIES:MEETING
DTSTART;TZID=America/Denver:20190721T210000
DTEND;TZID=America/Denver:20190721T210000
SUMMARY:Dave Jordan Music at Stonefly Lounge
DESCRIPTION:Age Limit: 21+\n\nDetails: Free show! Come see Dave Jordan and the Neighborhood Improvement Association at the Stonefly for a rare Sunday evening show on the stage!
LOCATION:Stonefly Lounge - 10154 U.S. Highway 2 West, Columbia Falls, MT, 59912, US
END:VEVENT

END:VCALENDAR
