BEGIN:VCALENDAR
VERSION:2.0
BEGIN:VEVENT
CLASS:PUBLIC
CATEGORIES:MEETING
DTSTART;TZID=America/New_York:20190712T200000
DTEND;TZID=America/New_York:20190712T200000
SUMMARY:Dr. Detoxxx at Miller's Fill Inn
DESCRIPTION:Price: Free\nAge Limit: 21+\n\nDetails: Troy Tipton and band will be headlining the show with special guest Dennis Downing a.k.a Dr. Detoxxx
LOCATION:Miller's Fill Inn - 52 Donnermeyer Dr, Bellevue, KY, 41073, US
END:VEVENT

END:VCALENDAR
