BEGIN:VCALENDAR
VERSION:2.0
BEGIN:VEVENT
CLASS:PUBLIC
CATEGORIES:MEETING
DTSTART;TZID=America/Los_Angeles:20190823T170000
DTEND;TZID=America/Los_Angeles:20190823T170000
SUMMARY:LeBono at Tin Roof
DESCRIPTION:Price: $12\nAge Limit: 21+\n\nDetails: Buy tickets for only $8 from DedBuny for this multiple band show!!!  
LOCATION:Tin Roof - 401 G Street, San Diego, CA, 92101, US
END:VEVENT

END:VCALENDAR
