BEGIN:VCALENDAR
VERSION:2.0
BEGIN:VEVENT
CLASS:PUBLIC
CATEGORIES:MEETING
DTSTART;TZID=America/Los_Angeles:20190727T160000
DTEND;TZID=America/Los_Angeles:20190727T160000
SUMMARY:LeBono at Silverlake Lounge
DESCRIPTION:Price: $10\nAge Limit: 21+\n\nDetails: Multiple band show! DedBuny goes on at 5p!!
LOCATION:Silverlake Lounge - 2906 W Sunset Blvd, Los Angeles, CA, 90026, US
END:VEVENT

END:VCALENDAR
