BEGIN:VCALENDAR
VERSION:2.0
BEGIN:VEVENT
CLASS:PUBLIC
CATEGORIES:MEETING
DTSTART;TZID=Europe/Athens:20190713T220000
DTEND;TZID=Europe/Athens:20190713T220000
SUMMARY:Alex Papadiamantis at Cafe Nouvel
DESCRIPTION:Age Limit: All Ages\n\nDetails: Summer sounds with Vocals Electric Violin and Synths 
LOCATION:Cafe Nouvel - Dimokratias avenue 54, Athens, GR
END:VEVENT

END:VCALENDAR
