BEGIN:VCALENDAR
VERSION:2.0
BEGIN:VEVENT
CLASS:PUBLIC
CATEGORIES:MEETING
DTSTART;TZID=Europe/London:20190629T120000
DTEND;TZID=Europe/London:20190629T120000
SUMMARY:<NUKLI> at The Shark
DESCRIPTION:Price: FREE\nClick here to buy tickets: https://www.facebook.com/events/673999683029358/\nAge Limit: 18+\n\nDetails: Midsummers Day Psychedelic Festival\nA FREE all day psychedelic music festival.\nThe Shark - Harlow\nHobtoe Rd, Harlow, Essex  CM20 1TH 
LOCATION:The Shark - Hobtoe Road, Essex, CM20 1TH, UK
END:VEVENT

END:VCALENDAR
