BEGIN:VCALENDAR
VERSION:2.0
BEGIN:VEVENT
CLASS:PUBLIC
CATEGORIES:MEETING
DTSTART;TZID=America/Los_Angeles:20190801T180000
DTEND;TZID=America/Los_Angeles:20190801T180000
SUMMARY:LeBono at Whisky A Go-Go
DESCRIPTION:Price: 10.00\nAge Limit: All Ages\n\nDetails: Buy Tickets direct from Artists playing the show!!!  I&#39;ve got them!!!
LOCATION:Whisky A Go-Go - 8901 Sunset Blvd, West Hollywood, CA, 90069, US
END:VEVENT

END:VCALENDAR
