BEGIN:VCALENDAR
VERSION:2.0
BEGIN:VEVENT
CLASS:PUBLIC
CATEGORIES:MEETING
DTSTART;TZID=America/Los_Angeles:20190807T180000
DTEND;TZID=America/Los_Angeles:20190807T180000
SUMMARY:Darryl Morris Band at Blue Table Winery
DESCRIPTION:Price: FREE\nAge Limit: All Ages
LOCATION:Blue Table Winery - 28912 Roadside Dr, Agoura Hills, CA, 91301, US
END:VEVENT

END:VCALENDAR
