BEGIN:VCALENDAR
VERSION:2.0
BEGIN:VEVENT
CLASS:PUBLIC
CATEGORIES:MEETING
DTSTART;TZID=America/Chicago:20190615T190000
DTEND;TZID=America/Chicago:20190615T190000
SUMMARY:Soul Punch at VFW Post 2661
DESCRIPTION:Age Limit: All Ages\n\nDetails: Washington VF Festival 7-11PM! Honor our Vets! 
LOCATION:VFW Post 2661 - 813 Jefferson Street, Washington, MO, 63090, US
END:VEVENT

END:VCALENDAR
