BEGIN:VCALENDAR
VERSION:2.0
BEGIN:VEVENT
CLASS:PUBLIC
CATEGORIES:MEETING
DTSTART;TZID=America/Los_Angeles:20190713T200000
DTEND;TZID=America/Los_Angeles:20190713T200000
SUMMARY:LeBono at The Ambassador Lounge
DESCRIPTION:Age Limit: 21+\n\nDetails: Showcase Live Show to promote new Album AND I.  CDs and Teeshirts available!!
LOCATION:The Ambassador Lounge - 2901 Nimitz Boulevard, San Diego, CA, 92106, US
END:VEVENT

END:VCALENDAR
