BEGIN:VCALENDAR
VERSION:2.0
BEGIN:VEVENT
CLASS:PUBLIC
CATEGORIES:MEETING
DTSTART;TZID=America/Los_Angeles:20190713T180000
DTEND;TZID=America/Los_Angeles:20190713T180000
SUMMARY:LeBono at Good Guys Tavern
DESCRIPTION:Age Limit: 21+\n\nDetails: Short Set to promote new Album AND I.  CDs and Teeshirts available!!
LOCATION:Good Guys Tavern - 7340 Broadway, Lemon Grove, CA, 91945, US
END:VEVENT

END:VCALENDAR
