BEGIN:VCALENDAR
VERSION:2.0
BEGIN:VEVENT
CLASS:PUBLIC
CATEGORIES:MEETING
DTSTART;TZID=America/Los_Angeles:20190413T200000
DTEND;TZID=America/Los_Angeles:20190413T200000
SUMMARY:LeBono at Inland Empire Brewery
DESCRIPTION:Age Limit: All Ages\n\nDetails: Live Show for Charity to support Autism Awareness Month!
LOCATION:Inland Empire Brewery - 1710 Palmyrita Avenue, Riverside, CA, 92507, US
END:VEVENT

END:VCALENDAR
