BEGIN:VCALENDAR
VERSION:2.0
BEGIN:VEVENT
CLASS:PUBLIC
CATEGORIES:MEETING
DTSTART;TZID=America/Los_Angeles:20190503T183000
DTEND;TZID=America/Los_Angeles:20190503T183000
SUMMARY:LeBono at National Orange Show
DESCRIPTION:Price: $10\nAge Limit: All Ages\n\nDetails: Citrus Stage
LOCATION:National Orange Show - San Bernardino, CA, US
END:VEVENT

END:VCALENDAR
