BEGIN:VCALENDAR
VERSION:2.0
BEGIN:VEVENT
CLASS:PUBLIC
CATEGORIES:MEETING
DTSTART;TZID=America/Toronto:20190529T180000
DTEND;TZID=America/Toronto:20190529T180000
SUMMARY:Amanda Cottreau at NAC Ottawa (ON)
DESCRIPTION:Price: $300.00 for Non-members - NO LONGER AVAILABLE\nAge Limit: 19+\n\nDetails: I am honoured to be playing at the 41st Canadian Radiation Protection Association banquet in Ottawa.  In line with this year&#39;s theme of &quot;Connecting with Communities,&quot;  I&#39;m looking forward sharing an evening with members from communities across this nation.  Join me May 29th at the National Art Centre&#39;s in the Canada Room for a celebratory buffet dinner, authentic connection, and heartwarming music.\n
LOCATION:NAC Ottawa (ON) - 53 Elgin St, Ottawa, ON, K1P, CA
END:VEVENT

END:VCALENDAR
