BEGIN:VCALENDAR
VERSION:2.0
BEGIN:VEVENT
CLASS:PUBLIC
CATEGORIES:MEETING
DTSTART;TZID=Europe/Athens:20190614T213000
DTEND;TZID=Europe/Athens:20190614T213000
SUMMARY:Alex Papadiamantis at Casper's Foulis
DESCRIPTION:Age Limit: All Ages
LOCATION:Casper's Foulis - 28 Andrea Papandreou, Chalandri, 152 32, GR
END:VEVENT

END:VCALENDAR
