BEGIN:VCALENDAR
VERSION:2.0
BEGIN:VEVENT
CLASS:PUBLIC
CATEGORIES:MEETING
DTSTART;TZID=Europe/Athens:20190621T200000
DTEND;TZID=Europe/Athens:20190621T200000
SUMMARY:Alex Papadiamantis at ΚΗΠΟΘΕΑΤΡΟ ΠΑΠΑΓΟΥ
DESCRIPTION:Age Limit: All Ages
LOCATION:ΚΗΠΟΘΕΑΤΡΟ ΠΑΠΑΓΟΥ - Κορυτσάς (6η στάση Παπάγου), Παπάγου, 156 69, GR
END:VEVENT

END:VCALENDAR
