BEGIN:VCALENDAR
VERSION:2.0
BEGIN:VEVENT
CLASS:PUBLIC
CATEGORIES:MEETING
DTSTART;TZID=America/Los_Angeles:20190524T180000
DTEND;TZID=America/Los_Angeles:20190524T180000
SUMMARY:LeBono at Jam Room - Crestline
DESCRIPTION:Age Limit: All Ages\n\nDetails: DEDBUNY  &lt;ROCK MUSIC ARTIST&gt;\nTOMMY ROSS PERFORMING SONGS FROM &quot;FAIRLY TWISTED LOGIC&quot;  &lt;TECHNO ROCK MUSIC ARTIST&gt;\nUNDER A MOUNTAIN      &lt;ROCK MUSIC ARTIST&gt;
LOCATION:Jam Room - Crestline - 587 Leafy Lane, Crestline, CA, 92325, US
END:VEVENT

END:VCALENDAR
