BEGIN:VCALENDAR
VERSION:2.0
BEGIN:VEVENT
CLASS:PUBLIC
CATEGORIES:MEETING
DTSTART;TZID=America/Los_Angeles:20190810T200000
DTEND;TZID=America/Los_Angeles:20190810T200000
SUMMARY:Shamarr Allen at The Mint
DESCRIPTION:Price: $12\nClick here to buy tickets: https://www.themintla.com/event/1846924/\nAge Limit: 21+\n\nDetails: SHAMARR ALLEN\nDARRYL MORRIS BAND\nSaturday, August 10\nDoors: 8:00 pm / Show: 8:00 pm\n$12 advance - $16 day of show\nTICKETS\nThis event is 21 and over\nDarryl Morris Band\nShamarr Allen - 11pm
LOCATION:The Mint - 6010 West Pico Boulevard, Los Angeles, CA, 90035, US
END:VEVENT

END:VCALENDAR
