BEGIN:VCALENDAR
VERSION:2.0
BEGIN:VEVENT
CLASS:PUBLIC
CATEGORIES:MEETING
DTSTART;TZID=America/New_York:20190531T210000
DTEND;TZID=America/New_York:20190531T210000
SUMMARY:Bob Niederriter at Filament at the Vanderelli Room
DESCRIPTION:Age Limit: All Ages\n\nDetails: Guitar / organ trio performance , with Tony Monaco on Hammond organ , and Chris hogan on drums .
LOCATION:Filament at the Vanderelli Room - 218 East McDowell Street, Columbus, OH, 43215, US
END:VEVENT

END:VCALENDAR
