BEGIN:VCALENDAR
VERSION:2.0
BEGIN:VEVENT
CLASS:PUBLIC
CATEGORIES:MEETING
DTSTART;TZID=America/Los_Angeles:20190602T173000
DTEND;TZID=America/Los_Angeles:20190602T173000
SUMMARY:Jules Leyhe at Biscuits and Blues
DESCRIPTION:Price: $20\nClick here to buy tickets: https://www.opentable.com/r/biscuits-and-blues-reservations-san-francisco/?covers=2&amp;datetime=2019-06-02T18%3A30&amp;restref=2474&amp;searchdatetime=2019-06-02T18%3A30&amp;partysize=2&amp;corrid=b1988c8a-e35b-47b5-a93a-04d49ec17193\nAge Limit: All Ages\n\nDetails: Two Shows: 7pm &amp; 9pm • Tickets: $20
LOCATION:Biscuits and Blues - 401 Mason St, San Francisco, CA, 94102, US
END:VEVENT

END:VCALENDAR
