BEGIN:VCALENDAR
VERSION:2.0
BEGIN:VEVENT
CLASS:PUBLIC
CATEGORIES:MEETING
DTSTART;TZID=Europe/Athens:20190511T213000
DTEND;TZID=Europe/Athens:20190511T213000
SUMMARY:Sylvia Alex and the Band at Methodia Live Stage
DESCRIPTION:Price: 12 euros\nAge Limit: All Ages\n\nDetails: first rock festival at black box methodia
LOCATION:Methodia Live Stage - Konstantinoupoleos, Athina, 104 47, GR
END:VEVENT

END:VCALENDAR
