BEGIN:VCALENDAR
VERSION:2.0
BEGIN:VEVENT
CLASS:PUBLIC
CATEGORIES:MEETING
DTSTART;TZID=America/Chicago:20190414T143000
DTEND;TZID=America/Chicago:20190414T143000
SUMMARY:Ann-Marita at Daughters of Norway, Beaver Creek Lutheran Church
DESCRIPTION:Age Limit: All Ages
LOCATION:Daughters of Norway, Beaver Creek Lutheran Church - Augustana Heritage Park, 1111 West 33rd Street, Sioux Falls, SD, 57105, US
END:VEVENT

END:VCALENDAR
