BEGIN:VCALENDAR
VERSION:2.0
BEGIN:VEVENT
CLASS:PUBLIC
CATEGORIES:MEETING
DTSTART;TZID=America/Chicago:20190413T123000
DTEND;TZID=America/Chicago:20190413T123000
SUMMARY:Ann-Marita at Daughters of Norway, Faith Lutheran Church
DESCRIPTION:Age Limit: All Ages
LOCATION:Daughters of Norway, Faith Lutheran Church - 10395 University Avenue, Clive, IA, 50325, US
END:VEVENT

END:VCALENDAR
